BEGIN:VCALENDAR
VERSION:2.0
PRODID:-//Action Avenir Haïti asbl - ECPv5.8.1//NONSGML v1.0//EN
CALSCALE:GREGORIAN
METHOD:PUBLISH
X-WR-CALNAME:Action Avenir Haïti asbl
X-ORIGINAL-URL:https://www.aah.lu
X-WR-CALDESC:évènements pour Action Avenir Haïti asbl
BEGIN:VTIMEZONE
TZID:Europe/Luxembourg
BEGIN:DAYLIGHT
TZOFFSETFROM:+0100
TZOFFSETTO:+0200
TZNAME:CEST
DTSTART:20160327T010000
END:DAYLIGHT
BEGIN:STANDARD
TZOFFSETFROM:+0200
TZOFFSETTO:+0100
TZNAME:CET
DTSTART:20161030T010000
END:STANDARD
BEGIN:DAYLIGHT
TZOFFSETFROM:+0100
TZOFFSETTO:+0200
TZNAME:CEST
DTSTART:20170326T010000
END:DAYLIGHT
BEGIN:STANDARD
TZOFFSETFROM:+0200
TZOFFSETTO:+0100
TZNAME:CET
DTSTART:20171029T010000
END:STANDARD
BEGIN:DAYLIGHT
TZOFFSETFROM:+0100
TZOFFSETTO:+0200
TZNAME:CEST
DTSTART:20180325T010000
END:DAYLIGHT
BEGIN:STANDARD
TZOFFSETFROM:+0200
TZOFFSETTO:+0100
TZNAME:CET
DTSTART:20181028T010000
END:STANDARD
BEGIN:DAYLIGHT
TZOFFSETFROM:+0100
TZOFFSETTO:+0200
TZNAME:CEST
DTSTART:20190331T010000
END:DAYLIGHT
BEGIN:STANDARD
TZOFFSETFROM:+0200
TZOFFSETTO:+0100
TZNAME:CET
DTSTART:20191027T010000
END:STANDARD
BEGIN:DAYLIGHT
TZOFFSETFROM:+0100
TZOFFSETTO:+0200
TZNAME:CEST
DTSTART:20200329T010000
END:DAYLIGHT
BEGIN:STANDARD
TZOFFSETFROM:+0200
TZOFFSETTO:+0100
TZNAME:CET
DTSTART:20201025T010000
END:STANDARD
BEGIN:DAYLIGHT
TZOFFSETFROM:+0100
TZOFFSETTO:+0200
TZNAME:CEST
DTSTART:20210328T010000
END:DAYLIGHT
BEGIN:STANDARD
TZOFFSETFROM:+0200
TZOFFSETTO:+0100
TZNAME:CET
DTSTART:20211031T010000
END:STANDARD
END:VTIMEZONE
BEGIN:VEVENT
DTSTART;TZID=Europe/Luxembourg:20210322T190000
DTEND;TZID=Europe/Luxembourg:20210322T210000
DTSTAMP:20210722T194343
CREATED:20210208T170212Z
LAST-MODIFIED:20210309T105001Z
UID:4051-1616439600-1616446800@www.aah.lu
SUMMARY:Assemblée générale
DESCRIPTION:
URL:https://www.aah.lu/event/ag-2021/
LOCATION:visio – conférence
ORGANIZER;CN="Comit%C3%A9%20-%20AAH":MAILTO:contact@aah.lu
END:VEVENT
BEGIN:VEVENT
DTSTART;TZID=Europe/Luxembourg:20191103T110000
DTEND;TZID=Europe/Luxembourg:20191103T140000
DTSTAMP:20210722T194343
CREATED:20190415T084818Z
LAST-MODIFIED:20191019T203858Z
UID:3928-1572778800-1572789600@www.aah.lu
SUMMARY:Lunch Fair
DESCRIPTION:Tout comme les années précédentes\, AAH se propose d’organiser le lunch « Lunch Fair » également en 2019. Le comité vous invite avec plaisir à cet événement qui aura lieu \ndimanche\, le 03 novembre 2019 au Centre de Loisirs « Norbert Melcher » à Steinsel / Rue de l’Alzette \n\nRéservation\n[contact-form-7 id= »3200″ title= »Reservation »]
URL:https://www.aah.lu/event/lunch-fair-2/
LOCATION:Centre de Loisirs\, Rue de l'Alzette\, Steinsel\, 7305
ORGANIZER;CN="Comit%C3%A9%20-%20AAH":MAILTO:contact@aah.lu
END:VEVENT
BEGIN:VEVENT
DTSTART;VALUE=DATE:20191006
DTEND;VALUE=DATE:20191007
DTSTAMP:20210722T194343
CREATED:20170717T200542Z
LAST-MODIFIED:20190313T095800Z
UID:3798-1570320000-1570406399@www.aah.lu
SUMMARY:Walfer Vollekslaf - Stand
DESCRIPTION:Och dëst Joer si mir nees dobäi. \nMéi Info op http://walfy.lu/ \n 
URL:https://www.aah.lu/event/walfer-vollekslaf-stand/
LOCATION:Ravi – Luerenzweiler (Gemengen Atelier)\, Rue de Hunsdorf\, Lorentzweiler
ORGANIZER;CN="Comit%C3%A9%20-%20AAH":MAILTO:contact@aah.lu
END:VEVENT
BEGIN:VEVENT
DTSTART;VALUE=DATE:20190525
DTEND;VALUE=DATE:20190527
DTSTAMP:20210722T194343
CREATED:20190313T100154Z
LAST-MODIFIED:20190313T100154Z
UID:3914-1558742400-1558915199@www.aah.lu
SUMMARY:Food for Your Senses - Stand
DESCRIPTION:Um leschte Festival « Food for Your Senses » iwwerhëllt Action Avenir Haïti e Catering-Stand.
URL:https://www.aah.lu/event/food-for-your-senses-stand/
LOCATION:Food for Your Senses\, Boulevard Pierre Frieden\, Luxembourg\, Luxembourg
ORGANIZER;CN="Comit%C3%A9%20-%20AAH":MAILTO:contact@aah.lu
END:VEVENT
BEGIN:VEVENT
DTSTART;VALUE=DATE:20190429
DTEND;VALUE=DATE:20190505
DTSTAMP:20210722T194343
CREATED:20190313T122424Z
LAST-MODIFIED:20190417T201610Z
UID:3921-1556496000-1557014399@www.aah.lu
SUMMARY:Expo - Belle Etoile
DESCRIPTION:
URL:https://www.aah.lu/event/expo-belle-etoile/
LOCATION:Belle Etoile\, Route d'Arlon\, Bertrange\, Luxembourg
ORGANIZER;CN="Comit%C3%A9%20-%20AAH":MAILTO:contact@aah.lu
END:VEVENT
BEGIN:VEVENT
DTSTART;TZID=Europe/Luxembourg:20190307T190000
DTEND;TZID=Europe/Luxembourg:20190307T203000
DTSTAMP:20210722T194343
CREATED:20150126T131149Z
LAST-MODIFIED:20190304T201159Z
UID:3301-1551985200-1551990600@www.aah.lu
SUMMARY:Assemblée générale
DESCRIPTION:Le conseil d’administration a l’honneur de vous inviter à l’assemblée générale ordinaire qui se tiendra jeudi\, le 07 mars 2019 au Café « Op der Gare »  à Lintgen.
URL:https://www.aah.lu/event/assemblee-generale/
LOCATION:Lintgen\, Luxembourg
ORGANIZER;CN="Comit%C3%A9%20-%20AAH":MAILTO:contact@aah.lu
END:VEVENT
BEGIN:VEVENT
DTSTART;TZID=Europe/Luxembourg:20181014T110000
DTEND;TZID=Europe/Luxembourg:20181014T140000
DTSTAMP:20210722T194343
CREATED:20180424T133133Z
LAST-MODIFIED:20181012T194749Z
UID:3850-1539514800-1539525600@www.aah.lu
SUMMARY:Lunch Fair - COMPLET
DESCRIPTION:COMPLET\n\nTout comme les années précédentes\, AAH se propose d’organiser le lunch « Lunch Fair » également en 2018. Le comité vous invite avec plaisir à cet événement qui aura lieu \ndimanche\, le 14 octobre 2018 au Festsall « A Mouschelt » à Lintgen / 250 route de Fischbach \n\nRéservation\n[contact-form-7 id= »3200″ title= »Reservation »]
URL:https://www.aah.lu/event/lunch-fair-2018/
LOCATION:A Mouschelt – Lintgen\, rue de Fischbach\, Lintgen\, 7447\, Luxembourg
ATTACH;FMTTYPE=image/jpeg:https://www.aah.lu/wp-content/2015/03/lunch.jpg
ORGANIZER;CN="Comit%C3%A9%20-%20AAH":MAILTO:contact@aah.lu
GEO:49.7185598;6.1813746
X-APPLE-STRUCTURED-LOCATION;VALUE=URI;X-ADDRESS=A Mouschelt – Lintgen rue de Fischbach Lintgen 7447 Luxembourg;X-APPLE-RADIUS=500;X-TITLE=rue de Fischbach:geo:6.1813746,49.7185598
END:VEVENT
BEGIN:VEVENT
DTSTART;VALUE=DATE:20180814
DTEND;VALUE=DATE:20180816
DTSTAMP:20210722T194343
CREATED:20170711T210432Z
LAST-MODIFIED:20180321T081209Z
UID:3606-1534204800-1534377599@www.aah.lu
SUMMARY:Meyouzik - Festival
DESCRIPTION:
URL:https://www.aah.lu/event/meouzik-festival/
LOCATION:Place de la Constitution\, Luxembourg\, Luxembourg
ORGANIZER;CN="Comit%C3%A9%20-%20AAH":MAILTO:contact@aah.lu
GEO:49.611621;6.1319346
END:VEVENT
BEGIN:VEVENT
DTSTART;VALUE=DATE:20180609
DTEND;VALUE=DATE:20180610
DTSTAMP:20210722T194343
CREATED:20180503T100345Z
LAST-MODIFIED:20180503T100345Z
UID:3854-1528502400-1528588799@www.aah.lu
SUMMARY:Festival de l'Esprit critique
DESCRIPTION:
URL:https://www.aah.lu/event/festival-de-lesprit-critique/
LOCATION:Place de la Constitution\, Luxembourg\, Luxembourg
GEO:49.611621;6.1319346
END:VEVENT
BEGIN:VEVENT
DTSTART;VALUE=DATE:20171029
DTEND;VALUE=DATE:20171030
DTSTAMP:20210722T194343
CREATED:20150312T213738Z
LAST-MODIFIED:20171027T054919Z
UID:3326-1509235200-1509321599@www.aah.lu
SUMMARY:Lunch Fair - COMPLET
DESCRIPTION:COMPLET\nTout comme les années précédentes\, AAH se propose d’organiser le lunch « Lunch Fair » également en 2017. Le comité vous invite avec plaisir à cet événement qui aura lieu \ndimanche\, le 29 octobre 2017 au Festsall « A Mouschelt » à Lintgen / 250 route de Fischbach \n\n\n\nRéservation\n[contact-form-7 id= »3200″ title= »Reservation »]
URL:https://www.aah.lu/event/lunch-fair/
LOCATION:A Mouschelt – Lintgen\, rue de Fischbach\, Lintgen\, 7447\, Luxembourg
ORGANIZER;CN="Comit%C3%A9%20-%20AAH":MAILTO:contact@aah.lu
GEO:49.7185598;6.1813746
X-APPLE-STRUCTURED-LOCATION;VALUE=URI;X-ADDRESS=A Mouschelt – Lintgen rue de Fischbach Lintgen 7447 Luxembourg;X-APPLE-RADIUS=500;X-TITLE=rue de Fischbach:geo:6.1813746,49.7185598
END:VEVENT
BEGIN:VEVENT
DTSTART;VALUE=DATE:20170211
DTEND;VALUE=DATE:20170212
DTSTAMP:20210722T194343
CREATED:20170104T093618Z
LAST-MODIFIED:20170104T093618Z
UID:3527-1486771200-1486857599@www.aah.lu
SUMMARY:Listen to Haïti
DESCRIPTION:En date du 11 février 2017 une 2e édition du festival « Listen to Haïti » aura lieu dans la « Rockhal » à Esch/Alzette. \nPlus de détails suivront dans les prochains jours.
URL:https://www.aah.lu/event/listen-to-haiti/
LOCATION:Rockhal\, 5 avenue du Rock'n'Roll\, Esch-sur-Alzette\, 4361\, Luxembourg
ORGANIZER;CN="Comit%C3%A9%20-%20AAH":MAILTO:contact@aah.lu
GEO:49.4998983;5.9474372
X-APPLE-STRUCTURED-LOCATION;VALUE=URI;X-ADDRESS=Rockhal 5 avenue du Rock'n'Roll Esch-sur-Alzette 4361 Luxembourg;X-APPLE-RADIUS=500;X-TITLE=5 avenue du Rock'n'Roll:geo:5.9474372,49.4998983
END:VEVENT
BEGIN:VEVENT
DTSTART;VALUE=DATE:20160605
DTEND;VALUE=DATE:20160606
DTSTAMP:20210722T194343
CREATED:20150311T060626Z
LAST-MODIFIED:20160311T130751Z
UID:3323-1465084800-1465171199@www.aah.lu
SUMMARY:Marche Fair
DESCRIPTION:Plus de détails sous peu.
URL:https://www.aah.lu/event/marche-fair/
LOCATION:Commune d’Ell\, 27\, Haaptsrooss\, Ell\, 8530\, Luxembourg
ORGANIZER;CN="Comit%C3%A9%20-%20AAH":MAILTO:contact@aah.lu
GEO:49.7629584;5.8557896
X-APPLE-STRUCTURED-LOCATION;VALUE=URI;X-ADDRESS=Commune d’Ell 27 Haaptsrooss Ell 8530 Luxembourg;X-APPLE-RADIUS=500;X-TITLE=27\, Haaptsrooss:geo:5.8557896,49.7629584
END:VEVENT
END:VCALENDAR