BEGIN:VCALENDAR
VERSION:2.0
PRODID:-//Action Avenir Haïti asbl - ECPv5.8.1//NONSGML v1.0//EN
CALSCALE:GREGORIAN
METHOD:PUBLISH
X-WR-CALNAME:Action Avenir Haïti asbl
X-ORIGINAL-URL:https://www.aah.lu
X-WR-CALDESC:évènements pour Action Avenir Haïti asbl
BEGIN:VTIMEZONE
TZID:Europe/Luxembourg
BEGIN:DAYLIGHT
TZOFFSETFROM:+0100
TZOFFSETTO:+0200
TZNAME:CEST
DTSTART:20210328T010000
END:DAYLIGHT
BEGIN:STANDARD
TZOFFSETFROM:+0200
TZOFFSETTO:+0100
TZNAME:CET
DTSTART:20211031T010000
END:STANDARD
END:VTIMEZONE
BEGIN:VEVENT
DTSTART;VALUE=DATE:20210620
DTEND;VALUE=DATE:20210621
DTSTAMP:20210722T194612
CREATED:20210208T170718Z
LAST-MODIFIED:20210322T214509Z
UID:4055-1624147200-1624233599@www.aah.lu
SUMMARY:Marche Fair
DESCRIPTION:
URL:https://www.aah.lu/event/marche-fair-3/
ORGANIZER;CN="Comit%C3%A9%20-%20AAH":MAILTO:contact@aah.lu
END:VEVENT
END:VCALENDAR